BEGIN:VCALENDAR
VERSION:2.0
PRODID:-//Kings Bromley Parish Council//Meeting Calendar//EN
CALSCALE:GREGORIAN
METHOD:PUBLISH
BEGIN:VEVENT
UID:70457-20250213@kingsbromley-pc.gov.uk
DTSTAMP:20260422T050235Z
DTSTART;VALUE=DATE:20250213
DTEND;VALUE=DATE:20250214
SUMMARY:Full Council Meeting &#8211\\; 13 February 2025
DESCRIPTION:Full Council Meeting\nView details: https://kingsbromley-pc.gov.uk/meetings/full-council-meeting-13-february-2025/
URL:https://kingsbromley-pc.gov.uk/meetings/full-council-meeting-13-february-2025/
END:VEVENT
END:VCALENDAR
