BEGIN:VCALENDAR
VERSION:2.0
PRODID:-//Kings Bromley Parish Council//Meeting Calendar//EN
CALSCALE:GREGORIAN
METHOD:PUBLISH
BEGIN:VEVENT
UID:70465-20241010@kingsbromley-pc.gov.uk
DTSTAMP:20260422T065433Z
DTSTART;VALUE=DATE:20241010
DTEND;VALUE=DATE:20241011
SUMMARY:Full Council Meeting &#8211\\; 10 October 2024
DESCRIPTION:Full Council Meeting\nView details: https://kingsbromley-pc.gov.uk/meetings/full-council-meeting-10-october-2024/
URL:https://kingsbromley-pc.gov.uk/meetings/full-council-meeting-10-october-2024/
END:VEVENT
END:VCALENDAR
