BEGIN:VCALENDAR
VERSION:2.0
PRODID:-//Kings Bromley Parish Council//Meeting Calendar//EN
CALSCALE:GREGORIAN
METHOD:PUBLISH
BEGIN:VEVENT
UID:70467-20240917@kingsbromley-pc.gov.uk
DTSTAMP:20260422T055900Z
DTSTART;VALUE=DATE:20240917
DTEND;VALUE=DATE:20240918
SUMMARY:Full Council Meeting &#8211\\; 17 September 2024
DESCRIPTION:Full Council Meeting\nView details: https://kingsbromley-pc.gov.uk/meetings/full-council-meeting-17-september-2024/
URL:https://kingsbromley-pc.gov.uk/meetings/full-council-meeting-17-september-2024/
END:VEVENT
END:VCALENDAR
