BEGIN:VCALENDAR
VERSION:2.0
PRODID:-//Kings Bromley Parish Council//Meeting Calendar//EN
CALSCALE:GREGORIAN
METHOD:PUBLISH
BEGIN:VEVENT
UID:70469-20240808@kingsbromley-pc.gov.uk
DTSTAMP:20260422T060205Z
DTSTART;VALUE=DATE:20240808
DTEND;VALUE=DATE:20240809
SUMMARY:Full Council Meeting &#8211\\; 8 August 2024
DESCRIPTION:Full Council Meeting\nView details: https://kingsbromley-pc.gov.uk/meetings/full-council-meeting-8-august-2024/
URL:https://kingsbromley-pc.gov.uk/meetings/full-council-meeting-8-august-2024/
END:VEVENT
END:VCALENDAR
