BEGIN:VCALENDAR
VERSION:2.0
PRODID:-//Kings Bromley Parish Council//Meeting Calendar//EN
CALSCALE:GREGORIAN
METHOD:PUBLISH
BEGIN:VEVENT
UID:70477-20240411@kingsbromley-pc.gov.uk
DTSTAMP:20260422T040953Z
DTSTART;VALUE=DATE:20240411
DTEND;VALUE=DATE:20240412
SUMMARY:Full Council Meeting &#8211\\; 11 April 2024
DESCRIPTION:Full Council Meeting\nView details: https://kingsbromley-pc.gov.uk/meetings/full-council-meeting-11-april-2024/
URL:https://kingsbromley-pc.gov.uk/meetings/full-council-meeting-11-april-2024/
END:VEVENT
END:VCALENDAR
