BEGIN:VCALENDAR
VERSION:2.0
PRODID:-//Kings Bromley Parish Council//Meeting Calendar//EN
CALSCALE:GREGORIAN
METHOD:PUBLISH
BEGIN:VEVENT
UID:70481-20240208@kingsbromley-pc.gov.uk
DTSTAMP:20260422T040757Z
DTSTART;VALUE=DATE:20240208
DTEND;VALUE=DATE:20240209
SUMMARY:Full Council Meeting &#8211\\; 8 February 2024
DESCRIPTION:Full Council Meeting\nView details: https://kingsbromley-pc.gov.uk/meetings/full-council-meeting-8-february-2024/
URL:https://kingsbromley-pc.gov.uk/meetings/full-council-meeting-8-february-2024/
END:VEVENT
END:VCALENDAR
