BEGIN:VCALENDAR
VERSION:2.0
PRODID:-//Kings Bromley Parish Council//Meeting Calendar//EN
CALSCALE:GREGORIAN
METHOD:PUBLISH
BEGIN:VEVENT
UID:70531-20200101@kingsbromley-pc.gov.uk
DTSTAMP:20260421T234938Z
DTSTART;VALUE=DATE:20200101
DTEND;VALUE=DATE:20200102
SUMMARY:Full Council Meetings &#8211\\; 2020
DESCRIPTION:Full Council Meeting\nView details: https://kingsbromley-pc.gov.uk/meetings/full-council-meetings-2020/
URL:https://kingsbromley-pc.gov.uk/meetings/full-council-meetings-2020/
END:VEVENT
END:VCALENDAR
