BEGIN:VCALENDAR
VERSION:2.0
PRODID:-//Kings Bromley Parish Council//Meeting Calendar//EN
CALSCALE:GREGORIAN
METHOD:PUBLISH
BEGIN:VEVENT
UID:70559-20230112@kingsbromley-pc.gov.uk
DTSTAMP:20260422T034720Z
DTSTART;VALUE=DATE:20230112
DTEND;VALUE=DATE:20230113
SUMMARY:Planning Committee Meetings &#8211\\; 2023
DESCRIPTION:Planning Committee Meeting\nView details: https://kingsbromley-pc.gov.uk/meetings/planning-committee-meeting-12-january-2023/
URL:https://kingsbromley-pc.gov.uk/meetings/planning-committee-meeting-12-january-2023/
END:VEVENT
END:VCALENDAR
