BEGIN:VCALENDAR
VERSION:2.0
PRODID:-//Kings Bromley Parish Council//Meeting Calendar//EN
CALSCALE:GREGORIAN
METHOD:PUBLISH
BEGIN:VEVENT
UID:70561-20220113@kingsbromley-pc.gov.uk
DTSTAMP:20260422T021143Z
DTSTART;VALUE=DATE:20220113
DTEND;VALUE=DATE:20220114
SUMMARY:Planning Committee Meetings &#8211\\; 2022
DESCRIPTION:Planning Committee Meeting\nView details: https://kingsbromley-pc.gov.uk/meetings/planning-committee-meeting-13-january-2022/
URL:https://kingsbromley-pc.gov.uk/meetings/planning-committee-meeting-13-january-2022/
END:VEVENT
END:VCALENDAR
