BEGIN:VCALENDAR
VERSION:2.0
PRODID:-//Kings Bromley Parish Council//Meeting Calendar//EN
CALSCALE:GREGORIAN
METHOD:PUBLISH
BEGIN:VEVENT
UID:70563-20210113@kingsbromley-pc.gov.uk
DTSTAMP:20260422T020635Z
DTSTART;VALUE=DATE:20210113
DTEND;VALUE=DATE:20210114
SUMMARY:Planning Committee Meetings &#8211\\; 2021
DESCRIPTION:Planning Committee Meeting\nView details: https://kingsbromley-pc.gov.uk/meetings/planning-committee-meeting-13-january-2021/
URL:https://kingsbromley-pc.gov.uk/meetings/planning-committee-meeting-13-january-2021/
END:VEVENT
END:VCALENDAR
