BEGIN:VCALENDAR
VERSION:2.0
PRODID:-//Kings Bromley Parish Council//Meeting Calendar//EN
CALSCALE:GREGORIAN
METHOD:PUBLISH
BEGIN:VEVENT
UID:70565-20200108@kingsbromley-pc.gov.uk
DTSTAMP:20260421T234917Z
DTSTART;VALUE=DATE:20200108
DTEND;VALUE=DATE:20200109
SUMMARY:Planning Committee Meeting &#8211\\; 8 January 2020
DESCRIPTION:Planning Committee Meeting\nView details: https://kingsbromley-pc.gov.uk/meetings/planning-committee-meeting-8-january-2020/
URL:https://kingsbromley-pc.gov.uk/meetings/planning-committee-meeting-8-january-2020/
END:VEVENT
END:VCALENDAR
