BEGIN:VCALENDAR
VERSION:2.0
PRODID:-//Kings Bromley Parish Council//Meeting Calendar//EN
CALSCALE:GREGORIAN
METHOD:PUBLISH
BEGIN:VEVENT
UID:70626-20250612@kingsbromley-pc.gov.uk
DTSTAMP:20260422T032420Z
DTSTART;VALUE=DATE:20250612
DTEND;VALUE=DATE:20250613
SUMMARY:Full Council Meeting 12 June 2025
DESCRIPTION:Full Council Meeting\nView details: https://kingsbromley-pc.gov.uk/meetings/parish-council-meeting/
URL:https://kingsbromley-pc.gov.uk/meetings/parish-council-meeting/
END:VEVENT
END:VCALENDAR
