BEGIN:VCALENDAR
VERSION:2.0
PRODID:-//Kings Bromley Parish Council//Meeting Calendar//EN
CALSCALE:GREGORIAN
METHOD:PUBLISH
BEGIN:VEVENT
UID:70674-20250513@kingsbromley-pc.gov.uk
DTSTAMP:20260422T033805Z
DTSTART;VALUE=DATE:20250513
DTEND;VALUE=DATE:20250514
SUMMARY:Full Council Annual Meeting &#8211\\; 13 May 2025
DESCRIPTION:Full Council Meeting\nView details: https://kingsbromley-pc.gov.uk/meetings/minutes-annual-meeting-13th-may-2025/
URL:https://kingsbromley-pc.gov.uk/meetings/minutes-annual-meeting-13th-may-2025/
END:VEVENT
END:VCALENDAR
