BEGIN:VCALENDAR
VERSION:2.0
PRODID:-//Kings Bromley Parish Council//Meeting Calendar//EN
CALSCALE:GREGORIAN
METHOD:PUBLISH
BEGIN:VEVENT
UID:70746-20250709@kingsbromley-pc.gov.uk
DTSTAMP:20260422T013412Z
DTSTART;VALUE=DATE:20250709
DTEND;VALUE=DATE:20250710
SUMMARY:Full Council &#8211\\; EGM &#8211\\; 9th July 2025
DESCRIPTION:Full Council Meeting\nView details: https://kingsbromley-pc.gov.uk/meetings/full-council-egm-9th-july-2025/
URL:https://kingsbromley-pc.gov.uk/meetings/full-council-egm-9th-july-2025/
END:VEVENT
END:VCALENDAR
