BEGIN:VCALENDAR
VERSION:2.0
PRODID:-//Kings Bromley Parish Council//Meeting Calendar//EN
CALSCALE:GREGORIAN
METHOD:PUBLISH
BEGIN:VEVENT
UID:70754-20250710@kingsbromley-pc.gov.uk
DTSTAMP:20260422T013248Z
DTSTART;VALUE=DATE:20250710
DTEND;VALUE=DATE:20250711
SUMMARY:Full Council Meeting 10 July 2025
DESCRIPTION:Full Council Meeting\nView details: https://kingsbromley-pc.gov.uk/meetings/full-council-meeting-10-july-2025-2/
URL:https://kingsbromley-pc.gov.uk/meetings/full-council-meeting-10-july-2025-2/
END:VEVENT
END:VCALENDAR
