BEGIN:VCALENDAR
VERSION:2.0
PRODID:-//Kings Bromley Parish Council//Meeting Calendar//EN
CALSCALE:GREGORIAN
METHOD:PUBLISH
BEGIN:VEVENT
UID:70788-20250814@kingsbromley-pc.gov.uk
DTSTAMP:20260422T013417Z
DTSTART;VALUE=DATE:20250814
DTEND;VALUE=DATE:20250815
SUMMARY:Full Council Meeting 14 August 2025
DESCRIPTION:Full Council Meeting\nView details: https://kingsbromley-pc.gov.uk/meetings/full-council-meeting-14-august-2025/
URL:https://kingsbromley-pc.gov.uk/meetings/full-council-meeting-14-august-2025/
END:VEVENT
END:VCALENDAR
