BEGIN:VCALENDAR
VERSION:2.0
PRODID:-//Kings Bromley Parish Council//Meeting Calendar//EN
CALSCALE:GREGORIAN
METHOD:PUBLISH
BEGIN:VEVENT
UID:70821-20250911@kingsbromley-pc.gov.uk
DTSTAMP:20260422T013237Z
DTSTART;VALUE=DATE:20250911
DTEND;VALUE=DATE:20250912
SUMMARY:Full Council Meeting 11 September 2025
DESCRIPTION:Full Council Meeting\nView details: https://kingsbromley-pc.gov.uk/meetings/full-council-meeting-11-september-2025/
URL:https://kingsbromley-pc.gov.uk/meetings/full-council-meeting-11-september-2025/
END:VEVENT
END:VCALENDAR
