BEGIN:VCALENDAR
VERSION:2.0
PRODID:-//Kings Bromley Parish Council//Meeting Calendar//EN
CALSCALE:GREGORIAN
METHOD:PUBLISH
BEGIN:VEVENT
UID:70835-20251009@kingsbromley-pc.gov.uk
DTSTAMP:20260421T234911Z
DTSTART;VALUE=DATE:20251009
DTEND;VALUE=DATE:20251010
SUMMARY:Full Council Meeting 9 October 2025
DESCRIPTION:Full Council Meeting\nView details: https://kingsbromley-pc.gov.uk/meetings/full-council-meeting-9-october-2025/
URL:https://kingsbromley-pc.gov.uk/meetings/full-council-meeting-9-october-2025/
END:VEVENT
END:VCALENDAR
