BEGIN:VCALENDAR
VERSION:2.0
PRODID:-//Kings Bromley Parish Council//Meeting Calendar//EN
CALSCALE:GREGORIAN
METHOD:PUBLISH
BEGIN:VEVENT
UID:70874-20251113@kingsbromley-pc.gov.uk
DTSTAMP:20260421T234917Z
DTSTART;VALUE=DATE:20251113
DTEND;VALUE=DATE:20251114
SUMMARY:Full Council Meeting 13 November 2025
DESCRIPTION:Full Council Meeting\nView details: https://kingsbromley-pc.gov.uk/meetings/full-council-meeting-13-november-2025/
URL:https://kingsbromley-pc.gov.uk/meetings/full-council-meeting-13-november-2025/
END:VEVENT
END:VCALENDAR
