BEGIN:VCALENDAR
VERSION:2.0
PRODID:-//Kings Bromley Parish Council//Meeting Calendar//EN
CALSCALE:GREGORIAN
METHOD:PUBLISH
BEGIN:VEVENT
UID:70934-20260108@kingsbromley-pc.gov.uk
DTSTAMP:20260421T234938Z
DTSTART;VALUE=DATE:20260108
DTEND;VALUE=DATE:20260109
SUMMARY:Full Council Meeting 8 January 2026
DESCRIPTION:Full Council Meeting\nView details: https://kingsbromley-pc.gov.uk/meetings/full-council-meeting-8-january-2026/
URL:https://kingsbromley-pc.gov.uk/meetings/full-council-meeting-8-january-2026/
END:VEVENT
END:VCALENDAR
