BEGIN:VCALENDAR
VERSION:2.0
PRODID:-//Kings Bromley Parish Council//Meeting Calendar//EN
CALSCALE:GREGORIAN
METHOD:PUBLISH
BEGIN:VEVENT
UID:70953-20260212@kingsbromley-pc.gov.uk
DTSTAMP:20260421T215311Z
DTSTART;VALUE=DATE:20260212
DTEND;VALUE=DATE:20260213
SUMMARY:Full Council Meeting 12 February 2026
DESCRIPTION:Full Council Meeting\nView details: https://kingsbromley-pc.gov.uk/meetings/full-council-meeting/
URL:https://kingsbromley-pc.gov.uk/meetings/full-council-meeting/
END:VEVENT
END:VCALENDAR
